BEGIN:VCALENDAR
VERSION:2.0
PRODID:-//Columbia Valley - ECPv6.15.18//NONSGML v1.0//EN
CALSCALE:GREGORIAN
METHOD:PUBLISH
X-WR-CALNAME:Columbia Valley
X-ORIGINAL-URL:https://travelcolumbiavalley.com
X-WR-CALDESC:Events for Columbia Valley
REFRESH-INTERVAL;VALUE=DURATION:PT1H
X-Robots-Tag:noindex
X-PUBLISHED-TTL:PT1H
BEGIN:VTIMEZONE
TZID:UTC
BEGIN:STANDARD
TZOFFSETFROM:+0000
TZOFFSETTO:+0000
TZNAME:UTC
DTSTART:20250101T000000
END:STANDARD
END:VTIMEZONE
BEGIN:VEVENT
DTSTART;TZID=UTC:20260402T190000
DTEND;TZID=UTC:20260402T220000
DTSTAMP:20260423T080005
CREATED:20260330T152858Z
LAST-MODIFIED:20260330T152858Z
UID:42513-1775156400-1775167200@travelcolumbiavalley.com
SUMMARY:Japanese Trivia at Ullr Bar
DESCRIPTION:Ullr bar is excited to host the Invermere Judo Club for an all-Japanese Triva Night. Come on down Thursday April 2nd at 7:00pm to join the fun. There will be a $10.00 entry fee that goes to support our local Judo club and their competitors. Make a team of six or less and try and win a huge prize package. Top 3 teams win prizes. There is also Judo demonstration and auction opportunities to support local competitors and go home with something amazing. Hosted by Ullr’s own Sensational Sammy\, email info@ullrbar.com to register your team and get a table. Don’t miss out.
URL:https://travelcolumbiavalley.com/event/japanese-trivia-at-ullr-bar/
LOCATION:Ullr Bar\, 722 13th St\, Invermere\, BC\, V0A 1K4\, Canada
CATEGORIES:Invermere and Panorama Area
ATTACH;FMTTYPE=image/jpeg:https://travelcolumbiavalley.com/app/uploads/2026/03/judo-trivia.jpg
END:VEVENT
END:VCALENDAR