BEGIN:VCALENDAR
VERSION:2.0
PRODID:-//Columbia Valley - ECPv6.15.18//NONSGML v1.0//EN
CALSCALE:GREGORIAN
METHOD:PUBLISH
X-WR-CALNAME:Columbia Valley
X-ORIGINAL-URL:https://travelcolumbiavalley.com
X-WR-CALDESC:Events for Columbia Valley
REFRESH-INTERVAL;VALUE=DURATION:PT1H
X-Robots-Tag:noindex
X-PUBLISHED-TTL:PT1H
BEGIN:VTIMEZONE
TZID:UTC
BEGIN:STANDARD
TZOFFSETFROM:+0000
TZOFFSETTO:+0000
TZNAME:UTC
DTSTART:20250101T000000
END:STANDARD
END:VTIMEZONE
BEGIN:VEVENT
DTSTART;TZID=UTC:20260411T130000
DTEND;TZID=UTC:20260411T160000
DTSTAMP:20260423T080000
CREATED:20260330T155803Z
LAST-MODIFIED:20260330T155803Z
UID:42544-1775912400-1775923200@travelcolumbiavalley.com
SUMMARY:Tropical Takeover pond skimming
DESCRIPTION:Grab your kids and come celebrate the Tropical Takeover pond skimming contest. This event is family friendly.
URL:https://travelcolumbiavalley.com/event/tropical-takeover-pond-skimming/
LOCATION:Panorama Mountain Resort\, 2000 Panorama Dr\, Panorama\, BC V0A 1T0\, Canada
CATEGORIES:Invermere and Panorama Area
ATTACH;FMTTYPE=image/jpeg:https://travelcolumbiavalley.com/app/uploads/2026/03/pond-skimmig.jpg
END:VEVENT
END:VCALENDAR