BEGIN:VCALENDAR
VERSION:2.0
PRODID:-//Columbia Valley - ECPv6.15.18//NONSGML v1.0//EN
CALSCALE:GREGORIAN
METHOD:PUBLISH
X-WR-CALNAME:Columbia Valley
X-ORIGINAL-URL:https://travelcolumbiavalley.com
X-WR-CALDESC:Events for Columbia Valley
REFRESH-INTERVAL;VALUE=DURATION:PT1H
X-Robots-Tag:noindex
X-PUBLISHED-TTL:PT1H
BEGIN:VTIMEZONE
TZID:UTC
BEGIN:STANDARD
TZOFFSETFROM:+0000
TZOFFSETTO:+0000
TZNAME:UTC
DTSTART:20250101T000000
END:STANDARD
END:VTIMEZONE
BEGIN:VEVENT
DTSTART;VALUE=DATE:20260502
DTEND;VALUE=DATE:20260503
DTSTAMP:20260423T075829
CREATED:20260106T214542Z
LAST-MODIFIED:20260106T214542Z
UID:10002448-1777680000-1777766399@travelcolumbiavalley.com
SUMMARY:Radius Rhythms and Riffs
DESCRIPTION:Join Radius Retreat the first weekend of May every year for our Season Opening Event\, where local bands take the stage\, and the forest comes alive with music\, dancing\, and family-friendly fun. \nTickets go on sale February 1st!
URL:https://travelcolumbiavalley.com/event/radius-rhythms-and-riffs/
LOCATION:Radius Retreat\, 7058 Hwy 95 Box 739\, Radium Hot Springs\, BC V0A 1M0\, Canada
CATEGORIES:Radium Hot Springs and Area
ATTACH;FMTTYPE=image/jpeg:https://travelcolumbiavalley.com/app/uploads/2026/01/riffs-e1767735926564.jpg
END:VEVENT
END:VCALENDAR