BEGIN:VCALENDAR
VERSION:2.0
PRODID:-//Columbia Valley - ECPv6.15.18//NONSGML v1.0//EN
CALSCALE:GREGORIAN
METHOD:PUBLISH
X-WR-CALNAME:Columbia Valley
X-ORIGINAL-URL:https://travelcolumbiavalley.com
X-WR-CALDESC:Events for Columbia Valley
REFRESH-INTERVAL;VALUE=DURATION:PT1H
X-Robots-Tag:noindex
X-PUBLISHED-TTL:PT1H
BEGIN:VTIMEZONE
TZID:UTC
BEGIN:STANDARD
TZOFFSETFROM:+0000
TZOFFSETTO:+0000
TZNAME:UTC
DTSTART:20250101T000000
END:STANDARD
END:VTIMEZONE
BEGIN:VEVENT
DTSTART;TZID=UTC:20260627T080000
DTEND;TZID=UTC:20260628T170000
DTSTAMP:20260423T111037
CREATED:20260107T163052Z
LAST-MODIFIED:20260107T163052Z
UID:10002450-1782547200-1782666000@travelcolumbiavalley.com
SUMMARY:The WILDness
DESCRIPTION:Registration is now open for the trail running event of the year! Join Panorama for their annual WILDness trail running race!
URL:https://travelcolumbiavalley.com/event/the-wildness/
LOCATION:Panorama Mountain Resort\, 2000 Panorama Dr\, Panorama\, BC V0A 1T0\, Canada
CATEGORIES:Invermere and Panorama Area
ATTACH;FMTTYPE=image/jpeg:https://travelcolumbiavalley.com/app/uploads/2026/01/wildness.jpg
END:VEVENT
END:VCALENDAR