BEGIN:VCALENDAR
VERSION:2.0
PRODID:-//Columbia Valley - ECPv6.15.18//NONSGML v1.0//EN
CALSCALE:GREGORIAN
METHOD:PUBLISH
X-WR-CALNAME:Columbia Valley
X-ORIGINAL-URL:https://travelcolumbiavalley.com
X-WR-CALDESC:Events for Columbia Valley
REFRESH-INTERVAL;VALUE=DURATION:PT1H
X-Robots-Tag:noindex
X-PUBLISHED-TTL:PT1H
BEGIN:VTIMEZONE
TZID:UTC
BEGIN:STANDARD
TZOFFSETFROM:+0000
TZOFFSETTO:+0000
TZNAME:UTC
DTSTART:20250101T000000
END:STANDARD
END:VTIMEZONE
BEGIN:VEVENT
DTSTART;TZID=UTC:20260710T160000
DTEND;TZID=UTC:20260710T200000
DTSTAMP:20260423T125018
CREATED:20260110T195659Z
LAST-MODIFIED:20260110T203358Z
UID:10002478-1783699200-1783713600@travelcolumbiavalley.com
SUMMARY:Market on Main Radium
DESCRIPTION:Join us every Friday evening this summer from 4-8 pm on Main Street West for Radium’s ‘Market on Main’. Our market is home to artisans\, crafters\, farmers\, bakers\, and so much more. You’ll find homemade and homegrown products\, including baked goods\, jams\, jewelry\, essential oils\, paintings\, candles\, and plenty of other cool things to take home.
URL:https://travelcolumbiavalley.com/event/market-on-main-radium/2026-07-10/
LOCATION:BC
CATEGORIES:Radium Hot Springs and Area
ATTACH;FMTTYPE=image/jpeg:https://travelcolumbiavalley.com/app/uploads/2026/01/market-on-main.jpg
END:VEVENT
BEGIN:VEVENT
DTSTART;TZID=UTC:20260710T173000
DTEND;TZID=UTC:20260710T193000
DTSTAMP:20260423T125018
CREATED:20260110T195930Z
LAST-MODIFIED:20260110T200022Z
UID:10002540-1783704600-1783711800@travelcolumbiavalley.com
SUMMARY:Music on Main
DESCRIPTION:Join us every Friday this summer from 5:30-7:30pm to enjoy live music from a new local band each week! Check out Market on Main while you’re there!
URL:https://travelcolumbiavalley.com/event/music-on-main/2026-07-10/
LOCATION:BC
CATEGORIES:Radium Hot Springs and Area
ATTACH;FMTTYPE=image/jpeg:https://travelcolumbiavalley.com/app/uploads/2026/01/music-on-main.jpg
END:VEVENT
END:VCALENDAR