BEGIN:VCALENDAR
VERSION:2.0
PRODID:-//Columbia Valley - ECPv6.15.18//NONSGML v1.0//EN
CALSCALE:GREGORIAN
METHOD:PUBLISH
X-WR-CALNAME:Columbia Valley
X-ORIGINAL-URL:https://travelcolumbiavalley.com
X-WR-CALDESC:Events for Columbia Valley
REFRESH-INTERVAL;VALUE=DURATION:PT1H
X-Robots-Tag:noindex
X-PUBLISHED-TTL:PT1H
BEGIN:VTIMEZONE
TZID:UTC
BEGIN:STANDARD
TZOFFSETFROM:+0000
TZOFFSETTO:+0000
TZNAME:UTC
DTSTART:20250101T000000
END:STANDARD
END:VTIMEZONE
BEGIN:VEVENT
DTSTART;VALUE=DATE:20260504
DTEND;VALUE=DATE:20260511
DTSTAMP:20260423T182900
CREATED:20250910T155203Z
LAST-MODIFIED:20250910T155203Z
UID:10002215-1777852800-1778457599@travelcolumbiavalley.com
SUMMARY:Wings Over The Rockies 2026
DESCRIPTION:Wings Over the Rockies is one of Canada’s largest wildlife festivals\, celebrating nature in the Columbia Valley. \nTickets on sale April 7\, 2026!
URL:https://travelcolumbiavalley.com/event/wings-over-the-rockies-2026/
CATEGORIES:Fairmont Hot Springs and Area,Invermere and Panorama Area,Radium Hot Springs and Area
ATTACH;FMTTYPE=image/png:https://travelcolumbiavalley.com/app/uploads/2025/09/PastedGraphic-NOWHITE.png
END:VEVENT
BEGIN:VEVENT
DTSTART;TZID=UTC:20260523T110000
DTEND;TZID=UTC:20260523T160000
DTSTAMP:20260423T182900
CREATED:20260224T211407Z
LAST-MODIFIED:20260224T211407Z
UID:10002641-1779534000-1779552000@travelcolumbiavalley.com
SUMMARY:Fairmont Picnic Palooza
DESCRIPTION:Come celebrate with us at the 3rd Annual Fairmont Picnic Palooza! \nJoin us in the greenspace behind the iconic Fairmont Hot Springs Resort sign\, right across from Farm Kitchen Market. \nEnjoy live music\, browse local market vendors\, beer garden\, games and indulge in delicious food – it’s the perfect way to spend the day!
URL:https://travelcolumbiavalley.com/event/fairmont-picnic-palooza/
LOCATION:5005 Fairmont Resort Rd\, 5005 Fairmont Resort Rd\, Fairmont Hot Springs\, BC\, Canada
CATEGORIES:Fairmont Hot Springs and Area
ATTACH;FMTTYPE=image/jpeg:https://travelcolumbiavalley.com/app/uploads/2026/02/Picnic-Palooza.jpg
END:VEVENT
BEGIN:VEVENT
DTSTART;VALUE=DATE:20260618
DTEND;VALUE=DATE:20260623
DTSTAMP:20260423T182900
CREATED:20260128T195350Z
LAST-MODIFIED:20260128T195437Z
UID:10002610-1781740800-1782172799@travelcolumbiavalley.com
SUMMARY:Rally in the Valley
DESCRIPTION:Rally in the Valley is back for another year! Experience the entire weekend’s festivities or choose from a variety of exciting events. Dive into the thrilling OHV Rally\, designed for off-road enthusiasts\, take part in the Poker Ride AND 50/50 draw\, hosted by the Kootenay Rockies ATV Club\, or relax with delicious BBQ from Smokehouse 93 while enjoying live music from our local band\, Rivertown. \nCall Black Sheep campground at 1-403-542-0752 to book your campsite.
URL:https://travelcolumbiavalley.com/event/rally-in-the-valley/
LOCATION:Black Sheep Camp Kootenay River\, 9110 BC-93 #95\, Canal Flats\, BC V0B 1B0
CATEGORIES:Fairmont Hot Springs and Area
ATTACH;FMTTYPE=image/jpeg:https://travelcolumbiavalley.com/app/uploads/2026/01/rally-in-the-valley.jpg
END:VEVENT
END:VCALENDAR