BEGIN:VCALENDAR
VERSION:2.0
PRODID:-//Columbia Valley - ECPv6.15.18//NONSGML v1.0//EN
CALSCALE:GREGORIAN
METHOD:PUBLISH
X-WR-CALNAME:Columbia Valley
X-ORIGINAL-URL:https://travelcolumbiavalley.com
X-WR-CALDESC:Events for Columbia Valley
REFRESH-INTERVAL;VALUE=DURATION:PT1H
X-Robots-Tag:noindex
X-PUBLISHED-TTL:PT1H
BEGIN:VTIMEZONE
TZID:UTC
BEGIN:STANDARD
TZOFFSETFROM:+0000
TZOFFSETTO:+0000
TZNAME:UTC
DTSTART:20250101T000000
END:STANDARD
END:VTIMEZONE
BEGIN:VEVENT
DTSTART;TZID=UTC:20260719T080000
DTEND;TZID=UTC:20260719T170000
DTSTAMP:20260423T145331
CREATED:20260107T164026Z
LAST-MODIFIED:20260107T164026Z
UID:10002452-1784448000-1784480400@travelcolumbiavalley.com
SUMMARY:Heart of the Rockies Triathlon
DESCRIPTION:This Multisport Festival is back for its 43rd year! With events spanning two days including the youth races on Saturday\, there’s no better place to get moving! \nRegistration is open now!
URL:https://travelcolumbiavalley.com/event/heart-of-the-rockies-triathlon/2026-07-19/
LOCATION:Kinsmen Beach\, 1720 4 Ave\, Invermere\, BC V0A 1K4
CATEGORIES:Invermere and Panorama Area
ATTACH;FMTTYPE=image/jpeg:https://travelcolumbiavalley.com/app/uploads/2026/01/triath.jpg
ORGANIZER;CN="Platinum Racing":MAILTO:info@platinumracing.ca
END:VEVENT
BEGIN:VEVENT
DTSTART;TZID=UTC:20260720T230000
DTEND;TZID=UTC:20260720T235900
DTSTAMP:20260423T145331
CREATED:20260204T210918Z
LAST-MODIFIED:20260204T210918Z
UID:10002626-1784588400-1784591940@travelcolumbiavalley.com
SUMMARY:Movie in the Mountains
DESCRIPTION:Enjoy free\, weekly outdoor films in the heart of Downtown Invermere! Presented by the District of Invermere. Held at Pothole Park on Monday evenings throughout July and August\, movies start at dark/sunset. Bring your lawn chairs\, blankets\, and cash for the on-site concession. Settle in for a family-friendly movie under the stars in a stunning mountain setting!
URL:https://travelcolumbiavalley.com/event/movie-in-the-mountains/2026-07-20/
LOCATION:Pothole Park\, 639 7th Ave\, Athalmer\, BC\, V0A 1A0\, Canada
CATEGORIES:Invermere and Panorama Area
ATTACH;FMTTYPE=image/jpeg:https://travelcolumbiavalley.com/app/uploads/2026/02/movie.jpg
END:VEVENT
BEGIN:VEVENT
DTSTART;TZID=UTC:20260722T183000
DTEND;TZID=UTC:20260722T200000
DTSTAMP:20260423T145331
CREATED:20260204T210400Z
LAST-MODIFIED:20260204T210434Z
UID:10002618-1784745000-1784750400@travelcolumbiavalley.com
SUMMARY:Locals Live - Concert Series
DESCRIPTION:Join the District of Invermere for Locals Live\, a free summer concert series in Pothole Park\, Downtown Invermere! Every Wednesday throughout July and August\, local bands take the stage from 6:30pm-8pm to bring you live music! Bring your friends\, lawn chairs\, and blankets\, enjoy the mountain atmosphere\, and support our amazing local talent!
URL:https://travelcolumbiavalley.com/event/locals-live-concert-series/2026-07-22/
LOCATION:Pothole Park\, 639 7th Ave\, Athalmer\, BC\, V0A 1A0\, Canada
CATEGORIES:Invermere and Panorama Area
ATTACH;FMTTYPE=image/jpeg:https://travelcolumbiavalley.com/app/uploads/2026/02/locals-live.jpg
END:VEVENT
BEGIN:VEVENT
DTSTART;TZID=UTC:20260725T090000
DTEND;TZID=UTC:20260725T130000
DTSTAMP:20260423T145331
CREATED:20260107T170038Z
LAST-MODIFIED:20260218T153822Z
UID:10002461-1784970000-1784984400@travelcolumbiavalley.com
SUMMARY:Invermere Farmers and Artists Market
DESCRIPTION:Head to the Lakeview Parking Lot every Saturday this summer to enjoy local crafts and creations!
URL:https://travelcolumbiavalley.com/event/invermere-farmers-and-artists-market/2026-07-25/
LOCATION:528 6th Ave Invermere\, 528 6th Ave\, Invermere\, British Columbia\, Canada
CATEGORIES:Invermere and Panorama Area
ATTACH;FMTTYPE=image/jpeg:https://travelcolumbiavalley.com/app/uploads/2024/05/may-long-weekend-farmers-market-1.jpeg
END:VEVENT
BEGIN:VEVENT
DTSTART;TZID=UTC:20260727T230000
DTEND;TZID=UTC:20260727T235900
DTSTAMP:20260423T145331
CREATED:20260204T210918Z
LAST-MODIFIED:20260204T210918Z
UID:10002627-1785193200-1785196740@travelcolumbiavalley.com
SUMMARY:Movie in the Mountains
DESCRIPTION:Enjoy free\, weekly outdoor films in the heart of Downtown Invermere! Presented by the District of Invermere. Held at Pothole Park on Monday evenings throughout July and August\, movies start at dark/sunset. Bring your lawn chairs\, blankets\, and cash for the on-site concession. Settle in for a family-friendly movie under the stars in a stunning mountain setting!
URL:https://travelcolumbiavalley.com/event/movie-in-the-mountains/2026-07-27/
LOCATION:Pothole Park\, 639 7th Ave\, Athalmer\, BC\, V0A 1A0\, Canada
CATEGORIES:Invermere and Panorama Area
ATTACH;FMTTYPE=image/jpeg:https://travelcolumbiavalley.com/app/uploads/2026/02/movie.jpg
END:VEVENT
BEGIN:VEVENT
DTSTART;TZID=UTC:20260729T183000
DTEND;TZID=UTC:20260729T200000
DTSTAMP:20260423T145331
CREATED:20260204T210400Z
LAST-MODIFIED:20260204T210434Z
UID:10002619-1785349800-1785355200@travelcolumbiavalley.com
SUMMARY:Locals Live - Concert Series
DESCRIPTION:Join the District of Invermere for Locals Live\, a free summer concert series in Pothole Park\, Downtown Invermere! Every Wednesday throughout July and August\, local bands take the stage from 6:30pm-8pm to bring you live music! Bring your friends\, lawn chairs\, and blankets\, enjoy the mountain atmosphere\, and support our amazing local talent!
URL:https://travelcolumbiavalley.com/event/locals-live-concert-series/2026-07-29/
LOCATION:Pothole Park\, 639 7th Ave\, Athalmer\, BC\, V0A 1A0\, Canada
CATEGORIES:Invermere and Panorama Area
ATTACH;FMTTYPE=image/jpeg:https://travelcolumbiavalley.com/app/uploads/2026/02/locals-live.jpg
END:VEVENT
BEGIN:VEVENT
DTSTART;TZID=UTC:20260801T090000
DTEND;TZID=UTC:20260801T130000
DTSTAMP:20260423T145331
CREATED:20260107T170038Z
LAST-MODIFIED:20260218T153822Z
UID:10002462-1785574800-1785589200@travelcolumbiavalley.com
SUMMARY:Invermere Farmers and Artists Market
DESCRIPTION:Head to the Lakeview Parking Lot every Saturday this summer to enjoy local crafts and creations!
URL:https://travelcolumbiavalley.com/event/invermere-farmers-and-artists-market/2026-08-01/
LOCATION:528 6th Ave Invermere\, 528 6th Ave\, Invermere\, British Columbia\, Canada
CATEGORIES:Invermere and Panorama Area
ATTACH;FMTTYPE=image/jpeg:https://travelcolumbiavalley.com/app/uploads/2024/05/may-long-weekend-farmers-market-1.jpeg
END:VEVENT
BEGIN:VEVENT
DTSTART;TZID=UTC:20260803T230000
DTEND;TZID=UTC:20260803T235900
DTSTAMP:20260423T145331
CREATED:20260204T210918Z
LAST-MODIFIED:20260204T210918Z
UID:10002628-1785798000-1785801540@travelcolumbiavalley.com
SUMMARY:Movie in the Mountains
DESCRIPTION:Enjoy free\, weekly outdoor films in the heart of Downtown Invermere! Presented by the District of Invermere. Held at Pothole Park on Monday evenings throughout July and August\, movies start at dark/sunset. Bring your lawn chairs\, blankets\, and cash for the on-site concession. Settle in for a family-friendly movie under the stars in a stunning mountain setting!
URL:https://travelcolumbiavalley.com/event/movie-in-the-mountains/2026-08-03/
LOCATION:Pothole Park\, 639 7th Ave\, Athalmer\, BC\, V0A 1A0\, Canada
CATEGORIES:Invermere and Panorama Area
ATTACH;FMTTYPE=image/jpeg:https://travelcolumbiavalley.com/app/uploads/2026/02/movie.jpg
END:VEVENT
BEGIN:VEVENT
DTSTART;TZID=UTC:20260805T183000
DTEND;TZID=UTC:20260805T200000
DTSTAMP:20260423T145331
CREATED:20260204T210400Z
LAST-MODIFIED:20260204T210434Z
UID:10002620-1785954600-1785960000@travelcolumbiavalley.com
SUMMARY:Locals Live - Concert Series
DESCRIPTION:Join the District of Invermere for Locals Live\, a free summer concert series in Pothole Park\, Downtown Invermere! Every Wednesday throughout July and August\, local bands take the stage from 6:30pm-8pm to bring you live music! Bring your friends\, lawn chairs\, and blankets\, enjoy the mountain atmosphere\, and support our amazing local talent!
URL:https://travelcolumbiavalley.com/event/locals-live-concert-series/2026-08-05/
LOCATION:Pothole Park\, 639 7th Ave\, Athalmer\, BC\, V0A 1A0\, Canada
CATEGORIES:Invermere and Panorama Area
ATTACH;FMTTYPE=image/jpeg:https://travelcolumbiavalley.com/app/uploads/2026/02/locals-live.jpg
END:VEVENT
BEGIN:VEVENT
DTSTART;VALUE=DATE:20260808
DTEND;VALUE=DATE:20260809
DTSTAMP:20260423T145331
CREATED:20260110T194719Z
LAST-MODIFIED:20260110T194719Z
UID:10002475-1786147200-1786233599@travelcolumbiavalley.com
SUMMARY:Loop the Lake
DESCRIPTION:Registration for the 29th Annual Loop the Lake opens on January 14th! Get running!
URL:https://travelcolumbiavalley.com/event/loop-the-lake/
LOCATION:BC
CATEGORIES:Invermere and Panorama Area
ATTACH;FMTTYPE=image/webp:https://travelcolumbiavalley.com/app/uploads/2026/01/loop-the-lake.webp
END:VEVENT
BEGIN:VEVENT
DTSTART;TZID=UTC:20260808T090000
DTEND;TZID=UTC:20260808T130000
DTSTAMP:20260423T145331
CREATED:20260107T170038Z
LAST-MODIFIED:20260218T153822Z
UID:10002463-1786179600-1786194000@travelcolumbiavalley.com
SUMMARY:Invermere Farmers and Artists Market
DESCRIPTION:Head to the Lakeview Parking Lot every Saturday this summer to enjoy local crafts and creations!
URL:https://travelcolumbiavalley.com/event/invermere-farmers-and-artists-market/2026-08-08/
LOCATION:528 6th Ave Invermere\, 528 6th Ave\, Invermere\, British Columbia\, Canada
CATEGORIES:Invermere and Panorama Area
ATTACH;FMTTYPE=image/jpeg:https://travelcolumbiavalley.com/app/uploads/2024/05/may-long-weekend-farmers-market-1.jpeg
END:VEVENT
BEGIN:VEVENT
DTSTART;TZID=UTC:20260810T230000
DTEND;TZID=UTC:20260810T235900
DTSTAMP:20260423T145331
CREATED:20260204T210918Z
LAST-MODIFIED:20260204T210918Z
UID:10002629-1786402800-1786406340@travelcolumbiavalley.com
SUMMARY:Movie in the Mountains
DESCRIPTION:Enjoy free\, weekly outdoor films in the heart of Downtown Invermere! Presented by the District of Invermere. Held at Pothole Park on Monday evenings throughout July and August\, movies start at dark/sunset. Bring your lawn chairs\, blankets\, and cash for the on-site concession. Settle in for a family-friendly movie under the stars in a stunning mountain setting!
URL:https://travelcolumbiavalley.com/event/movie-in-the-mountains/2026-08-10/
LOCATION:Pothole Park\, 639 7th Ave\, Athalmer\, BC\, V0A 1A0\, Canada
CATEGORIES:Invermere and Panorama Area
ATTACH;FMTTYPE=image/jpeg:https://travelcolumbiavalley.com/app/uploads/2026/02/movie.jpg
END:VEVENT
BEGIN:VEVENT
DTSTART;TZID=UTC:20260812T183000
DTEND;TZID=UTC:20260812T200000
DTSTAMP:20260423T145331
CREATED:20260204T210400Z
LAST-MODIFIED:20260204T210434Z
UID:10002621-1786559400-1786564800@travelcolumbiavalley.com
SUMMARY:Locals Live - Concert Series
DESCRIPTION:Join the District of Invermere for Locals Live\, a free summer concert series in Pothole Park\, Downtown Invermere! Every Wednesday throughout July and August\, local bands take the stage from 6:30pm-8pm to bring you live music! Bring your friends\, lawn chairs\, and blankets\, enjoy the mountain atmosphere\, and support our amazing local talent!
URL:https://travelcolumbiavalley.com/event/locals-live-concert-series/2026-08-12/
LOCATION:Pothole Park\, 639 7th Ave\, Athalmer\, BC\, V0A 1A0\, Canada
CATEGORIES:Invermere and Panorama Area
ATTACH;FMTTYPE=image/jpeg:https://travelcolumbiavalley.com/app/uploads/2026/02/locals-live.jpg
END:VEVENT
BEGIN:VEVENT
DTSTART;TZID=UTC:20260815T090000
DTEND;TZID=UTC:20260815T130000
DTSTAMP:20260423T145331
CREATED:20260107T170038Z
LAST-MODIFIED:20260218T153822Z
UID:10002464-1786784400-1786798800@travelcolumbiavalley.com
SUMMARY:Invermere Farmers and Artists Market
DESCRIPTION:Head to the Lakeview Parking Lot every Saturday this summer to enjoy local crafts and creations!
URL:https://travelcolumbiavalley.com/event/invermere-farmers-and-artists-market/2026-08-15/
LOCATION:528 6th Ave Invermere\, 528 6th Ave\, Invermere\, British Columbia\, Canada
CATEGORIES:Invermere and Panorama Area
ATTACH;FMTTYPE=image/jpeg:https://travelcolumbiavalley.com/app/uploads/2024/05/may-long-weekend-farmers-market-1.jpeg
END:VEVENT
BEGIN:VEVENT
DTSTART;TZID=UTC:20260817T230000
DTEND;TZID=UTC:20260817T235900
DTSTAMP:20260423T145331
CREATED:20260204T210918Z
LAST-MODIFIED:20260204T210918Z
UID:10002630-1787007600-1787011140@travelcolumbiavalley.com
SUMMARY:Movie in the Mountains
DESCRIPTION:Enjoy free\, weekly outdoor films in the heart of Downtown Invermere! Presented by the District of Invermere. Held at Pothole Park on Monday evenings throughout July and August\, movies start at dark/sunset. Bring your lawn chairs\, blankets\, and cash for the on-site concession. Settle in for a family-friendly movie under the stars in a stunning mountain setting!
URL:https://travelcolumbiavalley.com/event/movie-in-the-mountains/2026-08-17/
LOCATION:Pothole Park\, 639 7th Ave\, Athalmer\, BC\, V0A 1A0\, Canada
CATEGORIES:Invermere and Panorama Area
ATTACH;FMTTYPE=image/jpeg:https://travelcolumbiavalley.com/app/uploads/2026/02/movie.jpg
END:VEVENT
BEGIN:VEVENT
DTSTART;TZID=UTC:20260819T183000
DTEND;TZID=UTC:20260819T200000
DTSTAMP:20260423T145331
CREATED:20260204T210400Z
LAST-MODIFIED:20260204T210434Z
UID:10002622-1787164200-1787169600@travelcolumbiavalley.com
SUMMARY:Locals Live - Concert Series
DESCRIPTION:Join the District of Invermere for Locals Live\, a free summer concert series in Pothole Park\, Downtown Invermere! Every Wednesday throughout July and August\, local bands take the stage from 6:30pm-8pm to bring you live music! Bring your friends\, lawn chairs\, and blankets\, enjoy the mountain atmosphere\, and support our amazing local talent!
URL:https://travelcolumbiavalley.com/event/locals-live-concert-series/2026-08-19/
LOCATION:Pothole Park\, 639 7th Ave\, Athalmer\, BC\, V0A 1A0\, Canada
CATEGORIES:Invermere and Panorama Area
ATTACH;FMTTYPE=image/jpeg:https://travelcolumbiavalley.com/app/uploads/2026/02/locals-live.jpg
END:VEVENT
BEGIN:VEVENT
DTSTART;TZID=UTC:20260822T090000
DTEND;TZID=UTC:20260822T130000
DTSTAMP:20260423T145331
CREATED:20260107T170038Z
LAST-MODIFIED:20260218T153822Z
UID:10002465-1787389200-1787403600@travelcolumbiavalley.com
SUMMARY:Invermere Farmers and Artists Market
DESCRIPTION:Head to the Lakeview Parking Lot every Saturday this summer to enjoy local crafts and creations!
URL:https://travelcolumbiavalley.com/event/invermere-farmers-and-artists-market/2026-08-22/
LOCATION:528 6th Ave Invermere\, 528 6th Ave\, Invermere\, British Columbia\, Canada
CATEGORIES:Invermere and Panorama Area
ATTACH;FMTTYPE=image/jpeg:https://travelcolumbiavalley.com/app/uploads/2024/05/may-long-weekend-farmers-market-1.jpeg
END:VEVENT
BEGIN:VEVENT
DTSTART;TZID=UTC:20260824T230000
DTEND;TZID=UTC:20260824T235900
DTSTAMP:20260423T145331
CREATED:20260204T210918Z
LAST-MODIFIED:20260204T210918Z
UID:10002631-1787612400-1787615940@travelcolumbiavalley.com
SUMMARY:Movie in the Mountains
DESCRIPTION:Enjoy free\, weekly outdoor films in the heart of Downtown Invermere! Presented by the District of Invermere. Held at Pothole Park on Monday evenings throughout July and August\, movies start at dark/sunset. Bring your lawn chairs\, blankets\, and cash for the on-site concession. Settle in for a family-friendly movie under the stars in a stunning mountain setting!
URL:https://travelcolumbiavalley.com/event/movie-in-the-mountains/2026-08-24/
LOCATION:Pothole Park\, 639 7th Ave\, Athalmer\, BC\, V0A 1A0\, Canada
CATEGORIES:Invermere and Panorama Area
ATTACH;FMTTYPE=image/jpeg:https://travelcolumbiavalley.com/app/uploads/2026/02/movie.jpg
END:VEVENT
BEGIN:VEVENT
DTSTART;TZID=UTC:20260826T183000
DTEND;TZID=UTC:20260826T200000
DTSTAMP:20260423T145332
CREATED:20260204T210400Z
LAST-MODIFIED:20260204T210434Z
UID:10002623-1787769000-1787774400@travelcolumbiavalley.com
SUMMARY:Locals Live - Concert Series
DESCRIPTION:Join the District of Invermere for Locals Live\, a free summer concert series in Pothole Park\, Downtown Invermere! Every Wednesday throughout July and August\, local bands take the stage from 6:30pm-8pm to bring you live music! Bring your friends\, lawn chairs\, and blankets\, enjoy the mountain atmosphere\, and support our amazing local talent!
URL:https://travelcolumbiavalley.com/event/locals-live-concert-series/2026-08-26/
LOCATION:Pothole Park\, 639 7th Ave\, Athalmer\, BC\, V0A 1A0\, Canada
CATEGORIES:Invermere and Panorama Area
ATTACH;FMTTYPE=image/jpeg:https://travelcolumbiavalley.com/app/uploads/2026/02/locals-live.jpg
END:VEVENT
BEGIN:VEVENT
DTSTART;TZID=UTC:20260829T090000
DTEND;TZID=UTC:20260829T130000
DTSTAMP:20260423T145332
CREATED:20260107T170038Z
LAST-MODIFIED:20260218T153822Z
UID:10002466-1787994000-1788008400@travelcolumbiavalley.com
SUMMARY:Invermere Farmers and Artists Market
DESCRIPTION:Head to the Lakeview Parking Lot every Saturday this summer to enjoy local crafts and creations!
URL:https://travelcolumbiavalley.com/event/invermere-farmers-and-artists-market/2026-08-29/
LOCATION:528 6th Ave Invermere\, 528 6th Ave\, Invermere\, British Columbia\, Canada
CATEGORIES:Invermere and Panorama Area
ATTACH;FMTTYPE=image/jpeg:https://travelcolumbiavalley.com/app/uploads/2024/05/may-long-weekend-farmers-market-1.jpeg
END:VEVENT
BEGIN:VEVENT
DTSTART;TZID=UTC:20260831T230000
DTEND;TZID=UTC:20260831T235900
DTSTAMP:20260423T145332
CREATED:20260204T210918Z
LAST-MODIFIED:20260204T210918Z
UID:10002632-1788217200-1788220740@travelcolumbiavalley.com
SUMMARY:Movie in the Mountains
DESCRIPTION:Enjoy free\, weekly outdoor films in the heart of Downtown Invermere! Presented by the District of Invermere. Held at Pothole Park on Monday evenings throughout July and August\, movies start at dark/sunset. Bring your lawn chairs\, blankets\, and cash for the on-site concession. Settle in for a family-friendly movie under the stars in a stunning mountain setting!
URL:https://travelcolumbiavalley.com/event/movie-in-the-mountains/2026-08-31/
LOCATION:Pothole Park\, 639 7th Ave\, Athalmer\, BC\, V0A 1A0\, Canada
CATEGORIES:Invermere and Panorama Area
ATTACH;FMTTYPE=image/jpeg:https://travelcolumbiavalley.com/app/uploads/2026/02/movie.jpg
END:VEVENT
BEGIN:VEVENT
DTSTART;TZID=UTC:20260905T090000
DTEND;TZID=UTC:20260905T130000
DTSTAMP:20260423T145332
CREATED:20260107T170038Z
LAST-MODIFIED:20260218T153822Z
UID:10002467-1788598800-1788613200@travelcolumbiavalley.com
SUMMARY:Invermere Farmers and Artists Market
DESCRIPTION:Head to the Lakeview Parking Lot every Saturday this summer to enjoy local crafts and creations!
URL:https://travelcolumbiavalley.com/event/invermere-farmers-and-artists-market/2026-09-05/
LOCATION:528 6th Ave Invermere\, 528 6th Ave\, Invermere\, British Columbia\, Canada
CATEGORIES:Invermere and Panorama Area
ATTACH;FMTTYPE=image/jpeg:https://travelcolumbiavalley.com/app/uploads/2024/05/may-long-weekend-farmers-market-1.jpeg
END:VEVENT
BEGIN:VEVENT
DTSTART;TZID=UTC:20260912T090000
DTEND;TZID=UTC:20260912T130000
DTSTAMP:20260423T145332
CREATED:20260107T170038Z
LAST-MODIFIED:20260218T153822Z
UID:10002468-1789203600-1789218000@travelcolumbiavalley.com
SUMMARY:Invermere Farmers and Artists Market
DESCRIPTION:Head to the Lakeview Parking Lot every Saturday this summer to enjoy local crafts and creations!
URL:https://travelcolumbiavalley.com/event/invermere-farmers-and-artists-market/2026-09-12/
LOCATION:528 6th Ave Invermere\, 528 6th Ave\, Invermere\, British Columbia\, Canada
CATEGORIES:Invermere and Panorama Area
ATTACH;FMTTYPE=image/jpeg:https://travelcolumbiavalley.com/app/uploads/2024/05/may-long-weekend-farmers-market-1.jpeg
END:VEVENT
BEGIN:VEVENT
DTSTART;TZID=UTC:20260926T100000
DTEND;TZID=UTC:20260926T140000
DTSTAMP:20260423T145332
CREATED:20260107T165508Z
LAST-MODIFIED:20260107T165508Z
UID:10002454-1790416800-1790431200@travelcolumbiavalley.com
SUMMARY:Fall Fest Market
DESCRIPTION:Enjoy the final Invermere Farmers and Artists Market of the year!
URL:https://travelcolumbiavalley.com/event/fall-fest-market/
LOCATION:13th Street Invermere\, 13th Street\, Invermere\, BC\, Canada
CATEGORIES:Invermere and Panorama Area
ATTACH;FMTTYPE=image/jpeg:https://travelcolumbiavalley.com/app/uploads/2021/03/Radium-Stock-Images-Fall-2020-NN-28-scaled-1.jpg
END:VEVENT
END:VCALENDAR