BEGIN:VCALENDAR
VERSION:2.0
PRODID:-//Columbia Valley - ECPv6.15.18//NONSGML v1.0//EN
CALSCALE:GREGORIAN
METHOD:PUBLISH
X-WR-CALNAME:Columbia Valley
X-ORIGINAL-URL:https://travelcolumbiavalley.com
X-WR-CALDESC:Events for Columbia Valley
REFRESH-INTERVAL;VALUE=DURATION:PT1H
X-Robots-Tag:noindex
X-PUBLISHED-TTL:PT1H
BEGIN:VTIMEZONE
TZID:UTC
BEGIN:STANDARD
TZOFFSETFROM:+0000
TZOFFSETTO:+0000
TZNAME:UTC
DTSTART:20250101T000000
END:STANDARD
END:VTIMEZONE
BEGIN:VEVENT
DTSTART;TZID=UTC:20260404T140000
DTEND;TZID=UTC:20260404T180000
DTSTAMP:20260423T200304
CREATED:20260330T153846Z
LAST-MODIFIED:20260330T153846Z
UID:10002650-1775311200-1775325600@travelcolumbiavalley.com
SUMMARY:Sunseeker Apres Ski at Panorama
DESCRIPTION:Spring Après starts here! Join Panorama Mountain Resort at The Beach for free live music and some other fun surprises like giveaways and samples. It’s the perfect way to unwind after a spring ski day with a cold drink and good vibes!
URL:https://travelcolumbiavalley.com/event/sunseeker-apres-ski-at-panorama/2026-04-04/
LOCATION:Panorama Mountain Resort\, 2000 Panorama Dr\, Panorama\, BC V0A 1T0\, Canada
CATEGORIES:Invermere and Panorama Area
ATTACH;FMTTYPE=image/jpeg:https://travelcolumbiavalley.com/app/uploads/2021/03/Radium-Stock-Images-Fall-2020-NN-28-scaled-1.jpg
END:VEVENT
BEGIN:VEVENT
DTSTART;TZID=UTC:20260404T100000
DTEND;TZID=UTC:20260404T160000
DTSTAMP:20260423T200304
CREATED:20260121T185328Z
LAST-MODIFIED:20260123T153347Z
UID:10002606-1775296800-1775318400@travelcolumbiavalley.com
SUMMARY:Easter Weekend Market
DESCRIPTION:The Invermere Food & Artisans Market is back for another weekend of showcasing over 60 artisans\, creators and makers from the Columbia Valley and surrounding areas in BC and Alberta. Join us Easter weekend on Friday\, April 3 from 3pm to 7pm and Saturday\, April 4 from 10am to 4pm. \nHandmade goods\, home décor\, photography\, bath and beauty\, artisan food and beverage\, apparel\, woodworking\, artwork and more. Enjoy food vendors and live music. Free entry! \nMark your calendars for Easter weekend at the Columbia Valley Centre\, 646 4th Street in Invermere. \n 
URL:https://travelcolumbiavalley.com/event/easter-weekend-market/2026-04-04/
LOCATION:Columbia Valley Centre\, 646 4 St\, Invermere\, BC\, V0A 1K0\, Canada
CATEGORIES:Invermere and Panorama Area
ATTACH;FMTTYPE=image/jpeg:https://travelcolumbiavalley.com/app/uploads/2026/01/Easter-2026-Event-Poster.jpg
END:VEVENT
BEGIN:VEVENT
DTSTART;TZID=UTC:20260403T150000
DTEND;TZID=UTC:20260403T190000
DTSTAMP:20260423T200304
CREATED:20260121T185328Z
LAST-MODIFIED:20260123T153347Z
UID:10002605-1775228400-1775242800@travelcolumbiavalley.com
SUMMARY:Easter Weekend Market
DESCRIPTION:The Invermere Food & Artisans Market is back for another weekend of showcasing over 60 artisans\, creators and makers from the Columbia Valley and surrounding areas in BC and Alberta. Join us Easter weekend on Friday\, April 3 from 3pm to 7pm and Saturday\, April 4 from 10am to 4pm. \nHandmade goods\, home décor\, photography\, bath and beauty\, artisan food and beverage\, apparel\, woodworking\, artwork and more. Enjoy food vendors and live music. Free entry! \nMark your calendars for Easter weekend at the Columbia Valley Centre\, 646 4th Street in Invermere. \n 
URL:https://travelcolumbiavalley.com/event/easter-weekend-market/2026-04-03/
LOCATION:Columbia Valley Centre\, 646 4 St\, Invermere\, BC\, V0A 1K0\, Canada
CATEGORIES:Invermere and Panorama Area
ATTACH;FMTTYPE=image/jpeg:https://travelcolumbiavalley.com/app/uploads/2026/01/Easter-2026-Event-Poster.jpg
END:VEVENT
BEGIN:VEVENT
DTSTART;VALUE=DATE:20260403
DTEND;VALUE=DATE:20260406
DTSTAMP:20260423T200304
CREATED:20260330T153405Z
LAST-MODIFIED:20260330T153439Z
UID:10002649-1775174400-1775433599@travelcolumbiavalley.com
SUMMARY:Easter Palooza
DESCRIPTION:Panorama’s gonna be hippity-hoppin’ all through Winter’s closing weekend. Fill your basket with a good dose of family fun\, bunny hop rail jams\, live music\, celebrations and a bunch of end-of-season runs!
URL:https://travelcolumbiavalley.com/event/easter-palooza/
LOCATION:Panorama Mountain Resort\, 2000 Panorama Dr\, Panorama\, BC V0A 1T0\, Canada
CATEGORIES:Invermere and Panorama Area
ATTACH;FMTTYPE=image/jpeg:https://travelcolumbiavalley.com/app/uploads/2026/03/easter-palooza.jpg
END:VEVENT
BEGIN:VEVENT
DTSTART;VALUE=DATE:20260403
DTEND;VALUE=DATE:20260406
DTSTAMP:20260423T200304
CREATED:20260330T153158Z
LAST-MODIFIED:20260330T153520Z
UID:10002648-1775174400-1775433599@travelcolumbiavalley.com
SUMMARY:Easter Weekend
DESCRIPTION:Join Hopkins Harvest for a full Easter Weekend celebration filled with incredible food\, community connection\, and events for both adults and kids. Full details at the link below.
URL:https://travelcolumbiavalley.com/event/easter-weekend/
LOCATION:Hopkins Harvest\, 1645 BC-95\, Windermere\, BC\, V0B 2L2\, Canada
CATEGORIES:Invermere and Panorama Area
ATTACH;FMTTYPE=image/jpeg:https://travelcolumbiavalley.com/app/uploads/2026/03/easter-weekend.jpg
END:VEVENT
BEGIN:VEVENT
DTSTART;TZID=UTC:20260402T190000
DTEND;TZID=UTC:20260402T220000
DTSTAMP:20260423T200304
CREATED:20260330T152858Z
LAST-MODIFIED:20260330T152858Z
UID:10002647-1775156400-1775167200@travelcolumbiavalley.com
SUMMARY:Japanese Trivia at Ullr Bar
DESCRIPTION:Ullr bar is excited to host the Invermere Judo Club for an all-Japanese Triva Night. Come on down Thursday April 2nd at 7:00pm to join the fun. There will be a $10.00 entry fee that goes to support our local Judo club and their competitors. Make a team of six or less and try and win a huge prize package. Top 3 teams win prizes. There is also Judo demonstration and auction opportunities to support local competitors and go home with something amazing. Hosted by Ullr’s own Sensational Sammy\, email info@ullrbar.com to register your team and get a table. Don’t miss out.
URL:https://travelcolumbiavalley.com/event/japanese-trivia-at-ullr-bar/
LOCATION:Ullr Bar\, 722 13th St\, Invermere\, BC\, V0A 1K4\, Canada
CATEGORIES:Invermere and Panorama Area
ATTACH;FMTTYPE=image/jpeg:https://travelcolumbiavalley.com/app/uploads/2026/03/judo-trivia.jpg
END:VEVENT
BEGIN:VEVENT
DTSTART;TZID=UTC:20260327T193000
DTEND;TZID=UTC:20260327T213000
DTSTAMP:20260423T200304
CREATED:20260106T214027Z
LAST-MODIFIED:20260106T214027Z
UID:10002447-1774639800-1774647000@travelcolumbiavalley.com
SUMMARY:Invermere Comedy Classic
DESCRIPTION:Jokers Canada is back! Enjoy fresh lineups of Canada’s best touring comics! \nTickets on sale now!
URL:https://travelcolumbiavalley.com/event/invermere-comedy-classic/
LOCATION:Columbia Valley Centre\, 646 4 St\, Invermere\, BC\, V0A 1K0\, Canada
CATEGORIES:Invermere and Panorama Area
ATTACH;FMTTYPE=image/jpeg:https://travelcolumbiavalley.com/app/uploads/2026/01/https___cdn.evbuc_.com_images_1037774173_211416448747_1_original.jpg
END:VEVENT
BEGIN:VEVENT
DTSTART;TZID=UTC:20260327T183000
DTEND;TZID=UTC:20260327T200000
DTSTAMP:20260423T200304
CREATED:20260113T183505Z
LAST-MODIFIED:20260113T183505Z
UID:10002602-1774636200-1774641600@travelcolumbiavalley.com
SUMMARY:Wine and Paint Night
DESCRIPTION:Join Black Star Studios for a Wine and Paint Night hosted by Panorama Mountain Resort! \nRegister for your spot today by calling Reservations at 1-800-663-2929. Must be 19+
URL:https://travelcolumbiavalley.com/event/wine-and-paint-night/2026-03-27/
LOCATION:Fireside Café\, 2040 Summit Dr\, Panorama\, BC V0A 1T0
CATEGORIES:Invermere and Panorama Area
ATTACH;FMTTYPE=image/jpeg:https://travelcolumbiavalley.com/app/uploads/2026/01/wine-and-paint.jpg
END:VEVENT
BEGIN:VEVENT
DTSTART;TZID=UTC:20260325T183000
DTEND;TZID=UTC:20260325T203000
DTSTAMP:20260423T200304
CREATED:20260313T212959Z
LAST-MODIFIED:20260313T212959Z
UID:10002644-1774463400-1774470600@travelcolumbiavalley.com
SUMMARY:Sip and Paint at Copper Point Resort
DESCRIPTION:Join Copper Point Resort & Blackstar  for a fun and creative Floral Paint Night from 6:30 PM – 8:30 PM (doors open at 6 PM). Guests will enjoy a guided painting session and create their own flower-inspired artwork to take home. \nTickets are $55 + tax per person and include all painting materials and one complimentary drink. A full bar and menu will also be available throughout the evening. \nRegistration must be completed through the Black Star website.
URL:https://travelcolumbiavalley.com/event/sip-and-paint-at-copper-point-resort/
LOCATION:Copper Point Resort\, 760 Cooper Rd\, Invermere\, BC V0A 1K2\, Canada
CATEGORIES:Invermere and Panorama Area
ATTACH;FMTTYPE=application/pdf:https://travelcolumbiavalley.com/app/uploads/2026/03/Black-Star-March-25th.pdf
END:VEVENT
END:VCALENDAR