BEGIN:VCALENDAR
VERSION:2.0
PRODID:-//Columbia Valley - ECPv6.15.18//NONSGML v1.0//EN
CALSCALE:GREGORIAN
METHOD:PUBLISH
X-WR-CALNAME:Columbia Valley
X-ORIGINAL-URL:https://travelcolumbiavalley.com
X-WR-CALDESC:Events for Columbia Valley
REFRESH-INTERVAL;VALUE=DURATION:PT1H
X-Robots-Tag:noindex
X-PUBLISHED-TTL:PT1H
BEGIN:VTIMEZONE
TZID:UTC
BEGIN:STANDARD
TZOFFSETFROM:+0000
TZOFFSETTO:+0000
TZNAME:UTC
DTSTART:20250101T000000
END:STANDARD
END:VTIMEZONE
BEGIN:VEVENT
DTSTART;TZID=UTC:20260319T180000
DTEND;TZID=UTC:20260322T160000
DTSTAMP:20260423T080557
CREATED:20260106T213537Z
LAST-MODIFIED:20260106T213537Z
UID:10002446-1773943200-1774195200@travelcolumbiavalley.com
SUMMARY:Panorama Pride & Ski Festival
DESCRIPTION:Join Panorama Mountain Resort for the 3rd annual Pride and Ski Festival for a weekend of celebrations on the mountain and in the village!
URL:https://travelcolumbiavalley.com/event/panorama-pride-ski-festival/
LOCATION:Panorama Mountain Resort\, 2000 Panorama Dr\, Panorama\, BC V0A 1T0\, Canada
CATEGORIES:Invermere and Panorama Area
ATTACH;FMTTYPE=image/jpeg:https://travelcolumbiavalley.com/app/uploads/2026/01/pride.jpg
END:VEVENT
BEGIN:VEVENT
DTSTART;TZID=UTC:20260325T183000
DTEND;TZID=UTC:20260325T203000
DTSTAMP:20260423T080557
CREATED:20260313T212959Z
LAST-MODIFIED:20260313T212959Z
UID:10002644-1774463400-1774470600@travelcolumbiavalley.com
SUMMARY:Sip and Paint at Copper Point Resort
DESCRIPTION:Join Copper Point Resort & Blackstar  for a fun and creative Floral Paint Night from 6:30 PM – 8:30 PM (doors open at 6 PM). Guests will enjoy a guided painting session and create their own flower-inspired artwork to take home. \nTickets are $55 + tax per person and include all painting materials and one complimentary drink. A full bar and menu will also be available throughout the evening. \nRegistration must be completed through the Black Star website.
URL:https://travelcolumbiavalley.com/event/sip-and-paint-at-copper-point-resort/
LOCATION:Copper Point Resort\, 760 Cooper Rd\, Invermere\, BC V0A 1K2\, Canada
CATEGORIES:Invermere and Panorama Area
ATTACH;FMTTYPE=application/pdf:https://travelcolumbiavalley.com/app/uploads/2026/03/Black-Star-March-25th.pdf
END:VEVENT
BEGIN:VEVENT
DTSTART;TZID=UTC:20260327T183000
DTEND;TZID=UTC:20260327T200000
DTSTAMP:20260423T080557
CREATED:20260113T183505Z
LAST-MODIFIED:20260113T183505Z
UID:10002602-1774636200-1774641600@travelcolumbiavalley.com
SUMMARY:Wine and Paint Night
DESCRIPTION:Join Black Star Studios for a Wine and Paint Night hosted by Panorama Mountain Resort! \nRegister for your spot today by calling Reservations at 1-800-663-2929. Must be 19+
URL:https://travelcolumbiavalley.com/event/wine-and-paint-night/2026-03-27/
LOCATION:Fireside Café\, 2040 Summit Dr\, Panorama\, BC V0A 1T0
CATEGORIES:Invermere and Panorama Area
ATTACH;FMTTYPE=image/jpeg:https://travelcolumbiavalley.com/app/uploads/2026/01/wine-and-paint.jpg
END:VEVENT
BEGIN:VEVENT
DTSTART;TZID=UTC:20260327T193000
DTEND;TZID=UTC:20260327T213000
DTSTAMP:20260423T080557
CREATED:20260106T214027Z
LAST-MODIFIED:20260106T214027Z
UID:10002447-1774639800-1774647000@travelcolumbiavalley.com
SUMMARY:Invermere Comedy Classic
DESCRIPTION:Jokers Canada is back! Enjoy fresh lineups of Canada’s best touring comics! \nTickets on sale now!
URL:https://travelcolumbiavalley.com/event/invermere-comedy-classic/
LOCATION:Columbia Valley Centre\, 646 4 St\, Invermere\, BC\, V0A 1K0\, Canada
CATEGORIES:Invermere and Panorama Area
ATTACH;FMTTYPE=image/jpeg:https://travelcolumbiavalley.com/app/uploads/2026/01/https___cdn.evbuc_.com_images_1037774173_211416448747_1_original.jpg
END:VEVENT
END:VCALENDAR