BEGIN:VCALENDAR
VERSION:2.0
PRODID:-//Columbia Valley - ECPv6.15.18//NONSGML v1.0//EN
CALSCALE:GREGORIAN
METHOD:PUBLISH
X-WR-CALNAME:Columbia Valley
X-ORIGINAL-URL:https://travelcolumbiavalley.com
X-WR-CALDESC:Events for Columbia Valley
REFRESH-INTERVAL;VALUE=DURATION:PT1H
X-Robots-Tag:noindex
X-PUBLISHED-TTL:PT1H
BEGIN:VTIMEZONE
TZID:UTC
BEGIN:STANDARD
TZOFFSETFROM:+0000
TZOFFSETTO:+0000
TZNAME:UTC
DTSTART:20250101T000000
END:STANDARD
END:VTIMEZONE
BEGIN:VEVENT
DTSTART;VALUE=DATE:20260529
DTEND;VALUE=DATE:20260602
DTSTAMP:20260423T093405
CREATED:20260107T162259Z
LAST-MODIFIED:20260107T162335Z
UID:10002449-1780012800-1780358399@travelcolumbiavalley.com
SUMMARY:Rocky Mountain Rally
DESCRIPTION:The Rocky Mountain Rally returns to the Columbia Valley May 29-31st! Keep an eye on their website for more information as the dates get closer.
URL:https://travelcolumbiavalley.com/event/rocky-mountain-rally/
LOCATION:BC
CATEGORIES:Invermere and Panorama Area,Radium Hot Springs and Area
ATTACH;FMTTYPE=image/png:https://travelcolumbiavalley.com/app/uploads/2026/01/rally.png
END:VEVENT
BEGIN:VEVENT
DTSTART;TZID=UTC:20260613T090000
DTEND;TZID=UTC:20260613T130000
DTSTAMP:20260423T093405
CREATED:20260107T170038Z
LAST-MODIFIED:20260218T153822Z
UID:10002455-1781341200-1781355600@travelcolumbiavalley.com
SUMMARY:Invermere Farmers and Artists Market
DESCRIPTION:Head to the Lakeview Parking Lot every Saturday this summer to enjoy local crafts and creations!
URL:https://travelcolumbiavalley.com/event/invermere-farmers-and-artists-market/2026-06-13/
LOCATION:528 6th Ave Invermere\, 528 6th Ave\, Invermere\, British Columbia\, Canada
CATEGORIES:Invermere and Panorama Area
ATTACH;FMTTYPE=image/jpeg:https://travelcolumbiavalley.com/app/uploads/2024/05/may-long-weekend-farmers-market-1.jpeg
END:VEVENT
BEGIN:VEVENT
DTSTART;VALUE=DATE:20260618
DTEND;VALUE=DATE:20260623
DTSTAMP:20260423T093405
CREATED:20260128T195350Z
LAST-MODIFIED:20260128T195437Z
UID:10002610-1781740800-1782172799@travelcolumbiavalley.com
SUMMARY:Rally in the Valley
DESCRIPTION:Rally in the Valley is back for another year! Experience the entire weekend’s festivities or choose from a variety of exciting events. Dive into the thrilling OHV Rally\, designed for off-road enthusiasts\, take part in the Poker Ride AND 50/50 draw\, hosted by the Kootenay Rockies ATV Club\, or relax with delicious BBQ from Smokehouse 93 while enjoying live music from our local band\, Rivertown. \nCall Black Sheep campground at 1-403-542-0752 to book your campsite.
URL:https://travelcolumbiavalley.com/event/rally-in-the-valley/
LOCATION:Black Sheep Camp Kootenay River\, 9110 BC-93 #95\, Canal Flats\, BC V0B 1B0
CATEGORIES:Fairmont Hot Springs and Area
ATTACH;FMTTYPE=image/jpeg:https://travelcolumbiavalley.com/app/uploads/2026/01/rally-in-the-valley.jpg
END:VEVENT
BEGIN:VEVENT
DTSTART;TZID=UTC:20260620T090000
DTEND;TZID=UTC:20260620T130000
DTSTAMP:20260423T093405
CREATED:20260107T170038Z
LAST-MODIFIED:20260218T153822Z
UID:10002456-1781946000-1781960400@travelcolumbiavalley.com
SUMMARY:Invermere Farmers and Artists Market
DESCRIPTION:Head to the Lakeview Parking Lot every Saturday this summer to enjoy local crafts and creations!
URL:https://travelcolumbiavalley.com/event/invermere-farmers-and-artists-market/2026-06-20/
LOCATION:528 6th Ave Invermere\, 528 6th Ave\, Invermere\, British Columbia\, Canada
CATEGORIES:Invermere and Panorama Area
ATTACH;FMTTYPE=image/jpeg:https://travelcolumbiavalley.com/app/uploads/2024/05/may-long-weekend-farmers-market-1.jpeg
END:VEVENT
BEGIN:VEVENT
DTSTART;TZID=UTC:20260626T160000
DTEND;TZID=UTC:20260626T200000
DTSTAMP:20260423T093405
CREATED:20260110T195659Z
LAST-MODIFIED:20260110T203358Z
UID:10002476-1782489600-1782504000@travelcolumbiavalley.com
SUMMARY:Market on Main Radium
DESCRIPTION:Join us every Friday evening this summer from 4-8 pm on Main Street West for Radium’s ‘Market on Main’. Our market is home to artisans\, crafters\, farmers\, bakers\, and so much more. You’ll find homemade and homegrown products\, including baked goods\, jams\, jewelry\, essential oils\, paintings\, candles\, and plenty of other cool things to take home.
URL:https://travelcolumbiavalley.com/event/market-on-main-radium/2026-06-26/
LOCATION:BC
CATEGORIES:Radium Hot Springs and Area
ATTACH;FMTTYPE=image/jpeg:https://travelcolumbiavalley.com/app/uploads/2026/01/market-on-main.jpg
END:VEVENT
BEGIN:VEVENT
DTSTART;TZID=UTC:20260626T173000
DTEND;TZID=UTC:20260626T193000
DTSTAMP:20260423T093405
CREATED:20260110T195930Z
LAST-MODIFIED:20260110T200022Z
UID:10002538-1782495000-1782502200@travelcolumbiavalley.com
SUMMARY:Music on Main
DESCRIPTION:Join us every Friday this summer from 5:30-7:30pm to enjoy live music from a new local band each week! Check out Market on Main while you’re there!
URL:https://travelcolumbiavalley.com/event/music-on-main/2026-06-26/
LOCATION:BC
CATEGORIES:Radium Hot Springs and Area
ATTACH;FMTTYPE=image/jpeg:https://travelcolumbiavalley.com/app/uploads/2026/01/music-on-main.jpg
END:VEVENT
BEGIN:VEVENT
DTSTART;TZID=UTC:20260627T080000
DTEND;TZID=UTC:20260628T170000
DTSTAMP:20260423T093405
CREATED:20260107T163052Z
LAST-MODIFIED:20260107T163052Z
UID:10002450-1782547200-1782666000@travelcolumbiavalley.com
SUMMARY:The WILDness
DESCRIPTION:Registration is now open for the trail running event of the year! Join Panorama for their annual WILDness trail running race!
URL:https://travelcolumbiavalley.com/event/the-wildness/
LOCATION:Panorama Mountain Resort\, 2000 Panorama Dr\, Panorama\, BC V0A 1T0\, Canada
CATEGORIES:Invermere and Panorama Area
ATTACH;FMTTYPE=image/jpeg:https://travelcolumbiavalley.com/app/uploads/2026/01/wildness.jpg
END:VEVENT
BEGIN:VEVENT
DTSTART;TZID=UTC:20260627T090000
DTEND;TZID=UTC:20260627T130000
DTSTAMP:20260423T093405
CREATED:20260107T170038Z
LAST-MODIFIED:20260218T153822Z
UID:10002457-1782550800-1782565200@travelcolumbiavalley.com
SUMMARY:Invermere Farmers and Artists Market
DESCRIPTION:Head to the Lakeview Parking Lot every Saturday this summer to enjoy local crafts and creations!
URL:https://travelcolumbiavalley.com/event/invermere-farmers-and-artists-market/2026-06-27/
LOCATION:528 6th Ave Invermere\, 528 6th Ave\, Invermere\, British Columbia\, Canada
CATEGORIES:Invermere and Panorama Area
ATTACH;FMTTYPE=image/jpeg:https://travelcolumbiavalley.com/app/uploads/2024/05/may-long-weekend-farmers-market-1.jpeg
END:VEVENT
BEGIN:VEVENT
DTSTART;TZID=UTC:20260630T235900
DTEND;TZID=UTC:20260701T003000
DTSTAMP:20260423T093405
CREATED:20260128T200528Z
LAST-MODIFIED:20260128T200528Z
UID:10002611-1782863940-1782865800@travelcolumbiavalley.com
SUMMARY:Canada Day Fireworks
DESCRIPTION:Celebrate Canada Day by heading down to Kinsmen Beach to watch the fireworks!
URL:https://travelcolumbiavalley.com/event/canada-day-fireworks/
LOCATION:Kinsmen Beach\, 1720 4 Ave\, Invermere\, BC V0A 1K4
CATEGORIES:Invermere and Panorama Area
ATTACH;FMTTYPE=image/jpeg:https://travelcolumbiavalley.com/app/uploads/2026/01/fireworks.jpg
END:VEVENT
END:VCALENDAR