BEGIN:VCALENDAR
VERSION:2.0
PRODID:-//Columbia Valley - ECPv6.15.18//NONSGML v1.0//EN
CALSCALE:GREGORIAN
METHOD:PUBLISH
X-WR-CALNAME:Columbia Valley
X-ORIGINAL-URL:https://travelcolumbiavalley.com
X-WR-CALDESC:Events for Columbia Valley
REFRESH-INTERVAL;VALUE=DURATION:PT1H
X-Robots-Tag:noindex
X-PUBLISHED-TTL:PT1H
BEGIN:VTIMEZONE
TZID:UTC
BEGIN:STANDARD
TZOFFSETFROM:+0000
TZOFFSETTO:+0000
TZNAME:UTC
DTSTART:20250101T000000
END:STANDARD
END:VTIMEZONE
BEGIN:VEVENT
DTSTART;TZID=UTC:20260405T123000
DTEND;TZID=UTC:20260405T140000
DTSTAMP:20260423T132947
CREATED:20260330T154742Z
LAST-MODIFIED:20260330T154742Z
UID:10002654-1775392200-1775397600@travelcolumbiavalley.com
SUMMARY:Canal Flats Easter Egg Hunt
DESCRIPTION:Head to Canal Flats for a free community Easter Egg Hunt12:30 pm – Treats & Drinks1:00 pm – Hunt starts(12 and under)
URL:https://travelcolumbiavalley.com/event/canal-flats-easter-egg-hunt/
LOCATION:Canal Flats Civic Centre\, 8911 Dunn St\, Canal Flats\, BC V0B 1B0
CATEGORIES:Fairmont Hot Springs and Area
ATTACH;FMTTYPE=image/jpeg:https://travelcolumbiavalley.com/app/uploads/2026/03/easter-egg-canal-flats.jpg
END:VEVENT
END:VCALENDAR